BEGIN:VCALENDAR
VERSION:2.0
PRODID:-//www.arcnbc.org//NONSGML kigkonsult.se iCalcreator 2.30.10//
CALSCALE:GREGORIAN
METHOD:PUBLISH
UID:7b7396d3-c205-4da6-9de6-8820bd9e8132
X-WR-CALDESC:
X-WR-RELCALID:90b426c70f4a9574f00dc68dc35faf05
X-WR-TIMEZONE:America/New_York
BEGIN:VTIMEZONE
TZID:America/New_York
BEGIN:STANDARD
TZNAME:EST
DTSTART:20161106T020000
TZOFFSETFROM:-0400
TZOFFSETTO:-0500
RDATE:20171105T020000
END:STANDARD
BEGIN:DAYLIGHT
TZNAME:EDT
DTSTART:20170312T020000
TZOFFSETFROM:-0500
TZOFFSETTO:-0400
RDATE:20180311T020000
END:DAYLIGHT
END:VTIMEZONE
BEGIN:VEVENT
UID:dc72a50a-ff7f-4f04-a86b-ad06dde338e9
DTSTAMP:20260423T165628Z
DESCRIPTION:
DTSTART;TZID=America/New_York:20170320T170000
DTEND;TZID=America/New_York:20170320T180000
LOCATION:Arc Attleboro
SUMMARY:Self Advocate Group
END:VEVENT
END:VCALENDAR
