BEGIN:VCALENDAR
VERSION:2.0
PRODID:-//www.arcnbc.org//NONSGML kigkonsult.se iCalcreator 2.30.10//
CALSCALE:GREGORIAN
METHOD:PUBLISH
UID:180caa50-7792-4efa-a851-ef594969e0b1
X-WR-CALDESC:
X-WR-RELCALID:a22e8b8b3e066876c35252c9b36402d7
X-WR-TIMEZONE:America/New_York
BEGIN:VTIMEZONE
TZID:America/New_York
BEGIN:STANDARD
TZNAME:EST
DTSTART:20161106T020000
TZOFFSETFROM:-0400
TZOFFSETTO:-0500
RDATE:20171105T020000
END:STANDARD
BEGIN:DAYLIGHT
TZNAME:EDT
DTSTART:20170312T020000
TZOFFSETFROM:-0500
TZOFFSETTO:-0400
RDATE:20180311T020000
END:DAYLIGHT
END:VTIMEZONE
BEGIN:VEVENT
UID:e641c08f-7d12-4d7d-a61b-8b82607fc307
DTSTAMP:20260423T170052Z
DESCRIPTION:
DTSTART;TZID=America/New_York:20170321T150000
DTEND;TZID=America/New_York:20170321T170000
LOCATION:TARC
SUMMARY:Life Enrichment Skills
END:VEVENT
END:VCALENDAR
