BEGIN:VCALENDAR
VERSION:2.0
PRODID:-//www.arcnbc.org//NONSGML kigkonsult.se iCalcreator 2.30.10//
CALSCALE:GREGORIAN
METHOD:PUBLISH
UID:2de9e365-9b2f-41e0-8ae6-eeb07b028100
X-WR-CALDESC:
X-WR-RELCALID:598da14b66b442487d55c42e72f761f9
X-WR-TIMEZONE:America/New_York
BEGIN:VTIMEZONE
TZID:America/New_York
BEGIN:STANDARD
TZNAME:EST
DTSTART:20161106T020000
TZOFFSETFROM:-0400
TZOFFSETTO:-0500
RDATE:20171105T020000
END:STANDARD
BEGIN:DAYLIGHT
TZNAME:EDT
DTSTART:20170312T020000
TZOFFSETFROM:-0500
TZOFFSETTO:-0400
RDATE:20180311T020000
END:DAYLIGHT
END:VTIMEZONE
BEGIN:VEVENT
UID:801f3571-834e-47d7-8c26-12bdaddd5b6f
DTSTAMP:20260423T165241Z
DESCRIPTION:
DTSTART;TZID=America/New_York:20170321T090000
DTEND;TZID=America/New_York:20170321T150000
LOCATION:
SUMMARY:First Aid/CPR
END:VEVENT
END:VCALENDAR
