BEGIN:VCALENDAR
VERSION:2.0
PRODID:-//www.arcnbc.org//NONSGML kigkonsult.se iCalcreator 2.30.10//
CALSCALE:GREGORIAN
METHOD:PUBLISH
UID:b17ecefe-29e3-4ea4-9f19-2b9c8013ea56
X-WR-CALDESC:
X-WR-RELCALID:578a772dd2ef47dc35013619fab794fd
X-WR-TIMEZONE:America/New_York
BEGIN:VTIMEZONE
TZID:America/New_York
BEGIN:STANDARD
TZNAME:EST
DTSTART:20161106T020000
TZOFFSETFROM:-0400
TZOFFSETTO:-0500
RDATE:20171105T020000
END:STANDARD
BEGIN:DAYLIGHT
TZNAME:EDT
DTSTART:20170312T020000
TZOFFSETFROM:-0500
TZOFFSETTO:-0400
RDATE:20180311T020000
END:DAYLIGHT
END:VTIMEZONE
BEGIN:VEVENT
UID:7f568a4f-eff8-4ab4-8f96-28c1468bb673
DTSTAMP:20260423T165402Z
DESCRIPTION:
DTSTART;TZID=America/New_York:20170322T150000
DTEND;TZID=America/New_York:20170322T170000
LOCATION:TARC
SUMMARY:Bingo
END:VEVENT
END:VCALENDAR
