BEGIN:VCALENDAR
VERSION:2.0
PRODID:-//www.arcnbc.org//NONSGML kigkonsult.se iCalcreator 2.30.10//
CALSCALE:GREGORIAN
METHOD:PUBLISH
UID:146cb3bb-e84c-404f-86f7-22433fe17b39
X-WR-CALDESC:
X-WR-RELCALID:659e4934834519bc2e0a47f46ba77d6c
X-WR-TIMEZONE:America/New_York
BEGIN:VTIMEZONE
TZID:America/New_York
BEGIN:STANDARD
TZNAME:EST
DTSTART:20161106T020000
TZOFFSETFROM:-0400
TZOFFSETTO:-0500
RDATE:20171105T020000
END:STANDARD
BEGIN:DAYLIGHT
TZNAME:EDT
DTSTART:20170312T020000
TZOFFSETFROM:-0500
TZOFFSETTO:-0400
RDATE:20180311T020000
END:DAYLIGHT
END:VTIMEZONE
BEGIN:VEVENT
UID:0af1a92b-5d50-4f29-a470-21350476a7b1
DTSTAMP:20260423T165519Z
DESCRIPTION:
DTSTART;TZID=America/New_York:20170323T153000
DTEND;TZID=America/New_York:20170323T200000
LOCATION:Arc Attleboro
SUMMARY:College Baseball
END:VEVENT
END:VCALENDAR
