BEGIN:VCALENDAR
VERSION:2.0
PRODID:-//www.arcnbc.org//NONSGML kigkonsult.se iCalcreator 2.30.10//
CALSCALE:GREGORIAN
METHOD:PUBLISH
UID:dc5c239d-2b6c-4f42-822a-cf01d9fc2e63
X-WR-CALDESC:
X-WR-RELCALID:692c44f9e0cc95343456d4d56e7d956c
X-WR-TIMEZONE:America/New_York
BEGIN:VTIMEZONE
TZID:America/New_York
BEGIN:STANDARD
TZNAME:EST
DTSTART:20161106T020000
TZOFFSETFROM:-0400
TZOFFSETTO:-0500
RDATE:20171105T020000
END:STANDARD
BEGIN:DAYLIGHT
TZNAME:EDT
DTSTART:20170312T020000
TZOFFSETFROM:-0500
TZOFFSETTO:-0400
RDATE:20180311T020000
END:DAYLIGHT
END:VTIMEZONE
BEGIN:VEVENT
UID:1e74b6f1-1853-4772-afd8-7e8498321fd7
DTSTAMP:20260423T184616Z
DESCRIPTION:
DTSTART;TZID=America/New_York:20170328T180000
DTEND;TZID=America/New_York:20170328T200000
LOCATION:East Providence Lanes
SUMMARY:Bowling
END:VEVENT
END:VCALENDAR
