BEGIN:VCALENDAR
VERSION:2.0
PRODID:-//www.arcnbc.org//NONSGML kigkonsult.se iCalcreator 2.30.10//
CALSCALE:GREGORIAN
METHOD:PUBLISH
UID:52de930a-8360-45e2-9d3e-2bf903b3d024
X-WR-CALDESC:
X-WR-RELCALID:1d8177c58ea279baa7ffd3db1a62d8d3
X-WR-TIMEZONE:America/New_York
BEGIN:VTIMEZONE
TZID:America/New_York
BEGIN:STANDARD
TZNAME:EST
DTSTART:20161106T020000
TZOFFSETFROM:-0400
TZOFFSETTO:-0500
RDATE:20171105T020000
END:STANDARD
BEGIN:DAYLIGHT
TZNAME:EDT
DTSTART:20170312T020000
TZOFFSETFROM:-0500
TZOFFSETTO:-0400
RDATE:20180311T020000
END:DAYLIGHT
END:VTIMEZONE
BEGIN:VEVENT
UID:ae4c5fc4-e808-4e49-a960-b6dbd00e4904
DTSTAMP:20260423T165510Z
DESCRIPTION:
DTSTART;TZID=America/New_York:20170329T150000
DTEND;TZID=America/New_York:20170329T170000
LOCATION:TARC
SUMMARY:Arts & Crafts
END:VEVENT
END:VCALENDAR
