BEGIN:VCALENDAR
VERSION:2.0
PRODID:-//www.arcnbc.org//NONSGML kigkonsult.se iCalcreator 2.30.10//
CALSCALE:GREGORIAN
METHOD:PUBLISH
UID:a2f9a690-8b9f-4e3b-975e-176a3134c46b
X-WR-CALDESC:
X-WR-RELCALID:c4875388015203a06b6cbf3bd2a82876
X-WR-TIMEZONE:America/New_York
BEGIN:VTIMEZONE
TZID:America/New_York
BEGIN:STANDARD
TZNAME:EST
DTSTART:20161106T020000
TZOFFSETFROM:-0400
TZOFFSETTO:-0500
RDATE:20171105T020000
END:STANDARD
BEGIN:DAYLIGHT
TZNAME:EDT
DTSTART:20170312T020000
TZOFFSETFROM:-0500
TZOFFSETTO:-0400
RDATE:20180311T020000
END:DAYLIGHT
END:VTIMEZONE
BEGIN:VEVENT
UID:abe4e7b3-78fc-4100-9ab8-5434194b7ad7
DTSTAMP:20260423T165814Z
DESCRIPTION:
DTSTART;TZID=America/New_York:20170330T190000
DTEND;TZID=America/New_York:20170330T210000
LOCATION:Portuguese American Civic Club 175 School St. Taunton
SUMMARY:Fran's Dance
END:VEVENT
END:VCALENDAR
