BEGIN:VCALENDAR
VERSION:2.0
PRODID:-//www.arcnbc.org//NONSGML kigkonsult.se iCalcreator 2.30.10//
CALSCALE:GREGORIAN
METHOD:PUBLISH
UID:b3a4fbbb-b399-4892-bf55-f558f42e2912
X-WR-CALDESC:
X-WR-RELCALID:db4278b451b0f84d1ff7d2fcb61ca3b5
X-WR-TIMEZONE:America/New_York
BEGIN:VTIMEZONE
TZID:America/New_York
BEGIN:STANDARD
TZNAME:EST
DTSTART:20161106T020000
TZOFFSETFROM:-0400
TZOFFSETTO:-0500
RDATE:20171105T020000
END:STANDARD
BEGIN:DAYLIGHT
TZNAME:EDT
DTSTART:20170312T020000
TZOFFSETFROM:-0500
TZOFFSETTO:-0400
RDATE:20180311T020000
END:DAYLIGHT
END:VTIMEZONE
BEGIN:VEVENT
UID:dbaf2c1f-efec-42c5-8b6d-46bdc1137c10
DTSTAMP:20260423T165553Z
DESCRIPTION:
DTSTART;TZID=America/New_York:20170331T173000
DTEND;TZID=America/New_York:20170331T210000
LOCATION:Cinema Pub  Rte.1 N. Attleboro
SUMMARY:Dinner & Movie
END:VEVENT
END:VCALENDAR
