BEGIN:VCALENDAR
VERSION:2.0
PRODID:-//www.arcnbc.org//NONSGML kigkonsult.se iCalcreator 2.30.10//
CALSCALE:GREGORIAN
METHOD:PUBLISH
UID:feaee61e-028f-4602-8886-d86aea817f08
X-WR-CALDESC:
X-WR-RELCALID:ecad8e844b18868fae3b541f71a73b6c
X-WR-TIMEZONE:America/New_York
BEGIN:VTIMEZONE
TZID:America/New_York
BEGIN:STANDARD
TZNAME:EST
DTSTART:20161106T020000
TZOFFSETFROM:-0400
TZOFFSETTO:-0500
RDATE:20171105T020000
END:STANDARD
BEGIN:DAYLIGHT
TZNAME:EDT
DTSTART:20170312T020000
TZOFFSETFROM:-0500
TZOFFSETTO:-0400
RDATE:20180311T020000
END:DAYLIGHT
END:VTIMEZONE
BEGIN:VEVENT
UID:4e735dba-5d8e-4e3d-b572-4e23bfb45a29
DTSTAMP:20260423T165822Z
DESCRIPTION:
DTSTART;TZID=America/New_York:20170410T150000
DTEND;TZID=America/New_York:20170410T170000
LOCATION:TARC
SUMMARY:Walking Club
END:VEVENT
END:VCALENDAR
