BEGIN:VCALENDAR
VERSION:2.0
PRODID:-//www.arcnbc.org//NONSGML kigkonsult.se iCalcreator 2.30.10//
CALSCALE:GREGORIAN
METHOD:PUBLISH
UID:bc8343d9-2da1-4d32-83c0-316df6bc775b
X-WR-CALDESC:
X-WR-RELCALID:afcc2d5f5048c912b277bc53e2c6dd03
X-WR-TIMEZONE:America/New_York
BEGIN:VTIMEZONE
TZID:America/New_York
BEGIN:STANDARD
TZNAME:EST
DTSTART:20161106T020000
TZOFFSETFROM:-0400
TZOFFSETTO:-0500
RDATE:20171105T020000
END:STANDARD
BEGIN:DAYLIGHT
TZNAME:EDT
DTSTART:20170312T020000
TZOFFSETFROM:-0500
TZOFFSETTO:-0400
RDATE:20180311T020000
END:DAYLIGHT
END:VTIMEZONE
BEGIN:VEVENT
UID:edd75ba6-fdba-4edb-8cd3-918a325190e2
DTSTAMP:20260423T165520Z
DESCRIPTION:
DTSTART;TZID=America/New_York:20170410T170000
DTEND;TZID=America/New_York:20170410T213000
LOCATION:Arc Attleboro
SUMMARY:Dinner & Movie
END:VEVENT
END:VCALENDAR
