BEGIN:VCALENDAR
VERSION:2.0
PRODID:-//www.arcnbc.org//NONSGML kigkonsult.se iCalcreator 2.30.10//
CALSCALE:GREGORIAN
METHOD:PUBLISH
UID:ff1e9cd1-130d-4378-995b-4dfe8975465a
X-WR-CALDESC:
X-WR-RELCALID:8807e12880bbd6340ac83c3fd28d229a
X-WR-TIMEZONE:America/New_York
BEGIN:VTIMEZONE
TZID:America/New_York
BEGIN:STANDARD
TZNAME:EST
DTSTART:20161106T020000
TZOFFSETFROM:-0400
TZOFFSETTO:-0500
RDATE:20171105T020000
END:STANDARD
BEGIN:DAYLIGHT
TZNAME:EDT
DTSTART:20170312T020000
TZOFFSETFROM:-0500
TZOFFSETTO:-0400
RDATE:20180311T020000
END:DAYLIGHT
END:VTIMEZONE
BEGIN:VEVENT
UID:299ee043-70a6-4e3b-8c3c-a43d14b453a9
DTSTAMP:20260423T184238Z
DESCRIPTION:
DTSTART;TZID=America/New_York:20170411T160000
DTEND;TZID=America/New_York:20170411T210000
LOCATION:Arc Attleboro
SUMMARY:Seekonk Grand Prix
END:VEVENT
END:VCALENDAR
