BEGIN:VCALENDAR
VERSION:2.0
PRODID:-//www.arcnbc.org//NONSGML kigkonsult.se iCalcreator 2.30.10//
CALSCALE:GREGORIAN
METHOD:PUBLISH
UID:029be045-be3f-42db-8cab-e5bd1f6d7a95
X-WR-CALDESC:
X-WR-RELCALID:b28b7990a7027e7804ea9982c8b5b4f0
X-WR-TIMEZONE:America/New_York
BEGIN:VTIMEZONE
TZID:America/New_York
BEGIN:STANDARD
TZNAME:EST
DTSTART:20161106T020000
TZOFFSETFROM:-0400
TZOFFSETTO:-0500
RDATE:20171105T020000
END:STANDARD
BEGIN:DAYLIGHT
TZNAME:EDT
DTSTART:20170312T020000
TZOFFSETFROM:-0500
TZOFFSETTO:-0400
RDATE:20180311T020000
END:DAYLIGHT
END:VTIMEZONE
BEGIN:VEVENT
UID:61fc18bd-ff3b-473a-8d13-ef46fafe88ad
DTSTAMP:20260423T165921Z
DESCRIPTION:
DTSTART;TZID=America/New_York:20170412T150000
DTEND;TZID=America/New_York:20170412T170000
LOCATION:TARC
SUMMARY:Arts & Crafts
END:VEVENT
END:VCALENDAR
