BEGIN:VCALENDAR
VERSION:2.0
PRODID:-//www.arcnbc.org//NONSGML kigkonsult.se iCalcreator 2.30.10//
CALSCALE:GREGORIAN
METHOD:PUBLISH
UID:b41a8d68-f3e5-4c65-8409-0f0c1569afcf
X-WR-CALDESC:New Employee Orientation
X-WR-RELCALID:56c2a36f82df12700027a934c3a60b4f
X-WR-TIMEZONE:America/New_York
BEGIN:VTIMEZONE
TZID:America/New_York
BEGIN:STANDARD
TZNAME:EST
DTSTART:20161106T020000
TZOFFSETFROM:-0400
TZOFFSETTO:-0500
RDATE:20171105T020000
END:STANDARD
BEGIN:DAYLIGHT
TZNAME:EDT
DTSTART:20170312T020000
TZOFFSETFROM:-0500
TZOFFSETTO:-0400
RDATE:20180311T020000
END:DAYLIGHT
END:VTIMEZONE
BEGIN:VEVENT
UID:20910697-b743-469e-abbc-acd0c8502788
DTSTAMP:20260423T165249Z
DESCRIPTION:New Employee Orientation
DTSTART;TZID=America/New_York:20170412T100000
DTEND;TZID=America/New_York:20170412T160000
LOCATION:141 Park Street
SUMMARY:Orientation
END:VEVENT
END:VCALENDAR
