BEGIN:VCALENDAR
VERSION:2.0
PRODID:-//www.arcnbc.org//NONSGML kigkonsult.se iCalcreator 2.30.10//
CALSCALE:GREGORIAN
METHOD:PUBLISH
UID:7c600345-792e-48c5-a0ae-4b066de3ff66
X-WR-CALDESC:
X-WR-RELCALID:0cdc53535c87c62fc4ab2b34f128ec6a
X-WR-TIMEZONE:America/New_York
BEGIN:VTIMEZONE
TZID:America/New_York
BEGIN:STANDARD
TZNAME:EST
DTSTART:20161106T020000
TZOFFSETFROM:-0400
TZOFFSETTO:-0500
RDATE:20171105T020000
END:STANDARD
BEGIN:DAYLIGHT
TZNAME:EDT
DTSTART:20170312T020000
TZOFFSETFROM:-0500
TZOFFSETTO:-0400
RDATE:20180311T020000
END:DAYLIGHT
END:VTIMEZONE
BEGIN:VEVENT
UID:e46bb451-50e5-4d0a-b292-f85c57c127cd
DTSTAMP:20260423T165250Z
DESCRIPTION:
DTSTART;TZID=America/New_York:20170413T093000
DTEND;TZID=America/New_York:20170413T190000
LOCATION:Arc Attleboro
SUMMARY:Six Flags
END:VEVENT
END:VCALENDAR
