BEGIN:VCALENDAR
VERSION:2.0
PRODID:-//www.arcnbc.org//NONSGML kigkonsult.se iCalcreator 2.30.10//
CALSCALE:GREGORIAN
METHOD:PUBLISH
UID:38755f71-a796-49f1-b267-6a7de34cf301
X-WR-CALDESC:
X-WR-RELCALID:8d4792f9f6cfb70ba0c840f8a737265c
X-WR-TIMEZONE:America/New_York
BEGIN:VTIMEZONE
TZID:America/New_York
BEGIN:STANDARD
TZNAME:EST
DTSTART:20161106T020000
TZOFFSETFROM:-0400
TZOFFSETTO:-0500
RDATE:20171105T020000
END:STANDARD
BEGIN:DAYLIGHT
TZNAME:EDT
DTSTART:20170312T020000
TZOFFSETFROM:-0500
TZOFFSETTO:-0400
RDATE:20180311T020000
END:DAYLIGHT
END:VTIMEZONE
BEGIN:VEVENT
UID:642611f4-ba2f-4f2f-a844-f11259b562cc
DTSTAMP:20260423T165239Z
DESCRIPTION:
DTSTART;TZID=America/New_York:20170414T190000
DTEND;TZID=America/New_York:20170414T210000
LOCATION:Attleboro YMCA  Pleasant St. Branch
SUMMARY:GO Night
END:VEVENT
END:VCALENDAR
