BEGIN:VCALENDAR
VERSION:2.0
PRODID:-//www.arcnbc.org//NONSGML kigkonsult.se iCalcreator 2.30.10//
CALSCALE:GREGORIAN
METHOD:PUBLISH
UID:a6193443-2191-46fe-919a-00b2f8fb74c9
X-WR-CALDESC:
X-WR-RELCALID:bbc32b288ca5339f98ceda375147cbae
X-WR-TIMEZONE:America/New_York
BEGIN:VTIMEZONE
TZID:America/New_York
BEGIN:STANDARD
TZNAME:EST
DTSTART:20161106T020000
TZOFFSETFROM:-0400
TZOFFSETTO:-0500
RDATE:20171105T020000
END:STANDARD
BEGIN:DAYLIGHT
TZNAME:EDT
DTSTART:20170312T020000
TZOFFSETFROM:-0500
TZOFFSETTO:-0400
RDATE:20180311T020000
END:DAYLIGHT
END:VTIMEZONE
BEGIN:VEVENT
UID:d44471d3-0ed4-4255-94a3-c60c13f394f3
DTSTAMP:20260423T165236Z
DESCRIPTION:
DTSTART;TZID=America/New_York:20170415T100000
DTEND;TZID=America/New_York:20170415T140000
LOCATION:Attleboro office
SUMMARY:NCI
END:VEVENT
END:VCALENDAR
