BEGIN:VCALENDAR
VERSION:2.0
PRODID:-//www.arcnbc.org//NONSGML kigkonsult.se iCalcreator 2.30.10//
CALSCALE:GREGORIAN
METHOD:PUBLISH
UID:5d0aa87e-7710-4526-9d82-84e2b62e51b9
X-WR-CALDESC:
X-WR-RELCALID:419691a182a301a1f16b43f696fae7d3
X-WR-TIMEZONE:America/New_York
BEGIN:VTIMEZONE
TZID:America/New_York
BEGIN:STANDARD
TZNAME:EST
DTSTART:20161106T020000
TZOFFSETFROM:-0400
TZOFFSETTO:-0500
RDATE:20171105T020000
END:STANDARD
BEGIN:DAYLIGHT
TZNAME:EDT
DTSTART:20170312T020000
TZOFFSETFROM:-0500
TZOFFSETTO:-0400
RDATE:20180311T020000
END:DAYLIGHT
END:VTIMEZONE
BEGIN:VEVENT
UID:5cb9a324-8b5d-4b73-9008-d13a6e72e2c6
DTSTAMP:20260423T165920Z
DESCRIPTION:
DTSTART;TZID=America/New_York:20170417T150000
DTEND;TZID=America/New_York:20170417T170000
LOCATION:TARC
SUMMARY:Walking Club
END:VEVENT
END:VCALENDAR
