BEGIN:VCALENDAR
VERSION:2.0
PRODID:-//www.arcnbc.org//NONSGML kigkonsult.se iCalcreator 2.30.10//
CALSCALE:GREGORIAN
METHOD:PUBLISH
UID:26bebdbb-f82a-4624-9722-bda8ac941280
X-WR-CALDESC:
X-WR-RELCALID:2081ea57bf9e9c43e09cfd2a695dd8cc
X-WR-TIMEZONE:America/New_York
BEGIN:VTIMEZONE
TZID:America/New_York
BEGIN:STANDARD
TZNAME:EST
DTSTART:20161106T020000
TZOFFSETFROM:-0400
TZOFFSETTO:-0500
RDATE:20171105T020000
END:STANDARD
BEGIN:DAYLIGHT
TZNAME:EDT
DTSTART:20170312T020000
TZOFFSETFROM:-0500
TZOFFSETTO:-0400
RDATE:20180311T020000
END:DAYLIGHT
END:VTIMEZONE
BEGIN:VEVENT
UID:e1fded73-9d48-455b-a825-5e65ad9527c4
DTSTAMP:20260423T165249Z
DESCRIPTION:
DTSTART;TZID=America/New_York:20170419T150000
DTEND;TZID=America/New_York:20170419T170000
LOCATION:TARC
SUMMARY:Bingo
END:VEVENT
END:VCALENDAR
