BEGIN:VCALENDAR
VERSION:2.0
PRODID:-//www.arcnbc.org//NONSGML kigkonsult.se iCalcreator 2.30.10//
CALSCALE:GREGORIAN
METHOD:PUBLISH
UID:dda86e2d-cabe-44a9-9783-82ccc0319b61
X-WR-CALDESC:
X-WR-RELCALID:d4bbebae05af966fb896b2069db504fc
X-WR-TIMEZONE:America/New_York
BEGIN:VTIMEZONE
TZID:America/New_York
BEGIN:STANDARD
TZNAME:EST
DTSTART:20161106T020000
TZOFFSETFROM:-0400
TZOFFSETTO:-0500
RDATE:20171105T020000
END:STANDARD
BEGIN:DAYLIGHT
TZNAME:EDT
DTSTART:20170312T020000
TZOFFSETFROM:-0500
TZOFFSETTO:-0400
RDATE:20180311T020000
END:DAYLIGHT
END:VTIMEZONE
BEGIN:VEVENT
UID:5f90c29d-6113-4a59-9185-3ddee08ecf13
DTSTAMP:20260423T165358Z
DESCRIPTION:
DTSTART;TZID=America/New_York:20170419T090000
DTEND;TZID=America/New_York:20170419T150000
LOCATION:New Bedford Office
SUMMARY:First Aid/CPR
END:VEVENT
END:VCALENDAR
