BEGIN:VCALENDAR
VERSION:2.0
PRODID:-//www.arcnbc.org//NONSGML kigkonsult.se iCalcreator 2.30.10//
CALSCALE:GREGORIAN
METHOD:PUBLISH
UID:06a04a8f-0726-4ec4-9655-dde12b654ddb
X-WR-CALDESC:
X-WR-RELCALID:ab012595b32d4b3a1a75714fe944a99f
X-WR-TIMEZONE:America/New_York
BEGIN:VTIMEZONE
TZID:America/New_York
BEGIN:STANDARD
TZNAME:EST
DTSTART:20161106T020000
TZOFFSETFROM:-0400
TZOFFSETTO:-0500
RDATE:20171105T020000
END:STANDARD
BEGIN:DAYLIGHT
TZNAME:EDT
DTSTART:20170312T020000
TZOFFSETFROM:-0500
TZOFFSETTO:-0400
RDATE:20180311T020000
END:DAYLIGHT
END:VTIMEZONE
BEGIN:VEVENT
UID:6f7e1756-ff18-4020-8775-d2b1ad568194
DTSTAMP:20260423T185348Z
DESCRIPTION:
DTSTART;TZID=America/New_York:20170424T150000
DTEND;TZID=America/New_York:20170424T170000
LOCATION:TARC
SUMMARY:Walking Club
END:VEVENT
END:VCALENDAR
