BEGIN:VCALENDAR
VERSION:2.0
PRODID:-//www.arcnbc.org//NONSGML kigkonsult.se iCalcreator 2.30.10//
CALSCALE:GREGORIAN
METHOD:PUBLISH
UID:689ac0ab-756e-419c-b29e-2f3f14a3fcff
X-WR-CALDESC:New Employee Orientation
X-WR-RELCALID:867af36a21427461b05a534fd3ef1eba
X-WR-TIMEZONE:America/New_York
BEGIN:VTIMEZONE
TZID:America/New_York
BEGIN:STANDARD
TZNAME:EST
DTSTART:20161106T020000
TZOFFSETFROM:-0400
TZOFFSETTO:-0500
RDATE:20171105T020000
END:STANDARD
BEGIN:DAYLIGHT
TZNAME:EDT
DTSTART:20170312T020000
TZOFFSETFROM:-0500
TZOFFSETTO:-0400
RDATE:20180311T020000
END:DAYLIGHT
END:VTIMEZONE
BEGIN:VEVENT
UID:e4718c88-be84-4b4b-85f3-1df3eadbb8cb
DTSTAMP:20260423T165250Z
DESCRIPTION:New Employee Orientation
DTSTART;TZID=America/New_York:20170424T100000
DTEND;TZID=America/New_York:20170424T160000
LOCATION:141 Park Street
SUMMARY:Orientation
END:VEVENT
END:VCALENDAR
