BEGIN:VCALENDAR
VERSION:2.0
PRODID:-//www.arcnbc.org//NONSGML kigkonsult.se iCalcreator 2.30.10//
CALSCALE:GREGORIAN
METHOD:PUBLISH
UID:20b367cc-c7f8-4326-b6a4-32de3497256b
X-WR-CALDESC:
X-WR-RELCALID:a525c7bac2df88258719b7c7435d613f
X-WR-TIMEZONE:America/New_York
BEGIN:VTIMEZONE
TZID:America/New_York
BEGIN:STANDARD
TZNAME:EST
DTSTART:20161106T020000
TZOFFSETFROM:-0400
TZOFFSETTO:-0500
RDATE:20171105T020000
END:STANDARD
BEGIN:DAYLIGHT
TZNAME:EDT
DTSTART:20170312T020000
TZOFFSETFROM:-0500
TZOFFSETTO:-0400
RDATE:20180311T020000
END:DAYLIGHT
END:VTIMEZONE
BEGIN:VEVENT
UID:2bc42e53-2ec5-4c52-bfd2-01a5ce4c2b1d
DTSTAMP:20260423T165454Z
DESCRIPTION:
DTSTART;TZID=America/New_York:20170424T170000
DTEND;TZID=America/New_York:20170424T180000
LOCATION:Arc Attleboro
SUMMARY:Self Advocate Group
END:VEVENT
END:VCALENDAR
