BEGIN:VCALENDAR
VERSION:2.0
PRODID:-//www.arcnbc.org//NONSGML kigkonsult.se iCalcreator 2.30.10//
CALSCALE:GREGORIAN
METHOD:PUBLISH
UID:77ec655c-e6c6-4c4b-b54e-9e02356c7597
X-WR-CALDESC:
X-WR-RELCALID:6765451af7e49f3c40c6e0814be63ba0
X-WR-TIMEZONE:America/New_York
BEGIN:VTIMEZONE
TZID:America/New_York
BEGIN:STANDARD
TZNAME:EST
DTSTART:20161106T020000
TZOFFSETFROM:-0400
TZOFFSETTO:-0500
RDATE:20171105T020000
END:STANDARD
BEGIN:DAYLIGHT
TZNAME:EDT
DTSTART:20170312T020000
TZOFFSETFROM:-0500
TZOFFSETTO:-0400
RDATE:20180311T020000
END:DAYLIGHT
END:VTIMEZONE
BEGIN:VEVENT
UID:46fb573c-3f9b-473a-ad4b-d59d6b7963c7
DTSTAMP:20260423T170113Z
DESCRIPTION:
DTSTART;TZID=America/New_York:20170425T150000
DTEND;TZID=America/New_York:20170425T170000
LOCATION:TARC
SUMMARY:Life Enrichment Skills
END:VEVENT
END:VCALENDAR
