BEGIN:VCALENDAR
VERSION:2.0
PRODID:-//www.arcnbc.org//NONSGML kigkonsult.se iCalcreator 2.30.10//
CALSCALE:GREGORIAN
METHOD:PUBLISH
UID:d80553bb-dccc-4f79-9530-103454341ce9
X-WR-CALDESC:
X-WR-RELCALID:c5a33e02d2dc3464f145e3de7dca2aa0
X-WR-TIMEZONE:America/New_York
BEGIN:VTIMEZONE
TZID:America/New_York
BEGIN:STANDARD
TZNAME:EST
DTSTART:20161106T020000
TZOFFSETFROM:-0400
TZOFFSETTO:-0500
RDATE:20171105T020000
END:STANDARD
BEGIN:DAYLIGHT
TZNAME:EDT
DTSTART:20170312T020000
TZOFFSETFROM:-0500
TZOFFSETTO:-0400
RDATE:20180311T020000
END:DAYLIGHT
END:VTIMEZONE
BEGIN:VEVENT
UID:51905873-49dc-49a8-ada3-00c56025cfe6
DTSTAMP:20260423T165358Z
DESCRIPTION:
DTSTART;TZID=America/New_York:20170425T153000
DTEND;TZID=America/New_York:20170425T200000
LOCATION:Arc Attleboro
SUMMARY:College Baseball
END:VEVENT
END:VCALENDAR
