BEGIN:VCALENDAR
VERSION:2.0
PRODID:-//www.arcnbc.org//NONSGML kigkonsult.se iCalcreator 2.30.10//
CALSCALE:GREGORIAN
METHOD:PUBLISH
UID:8bce2723-af10-44a3-9a54-3864df9e07ad
X-WR-CALDESC:
X-WR-RELCALID:fc0e8aedc055b549c8121a22fdb920cf
X-WR-TIMEZONE:America/New_York
BEGIN:VTIMEZONE
TZID:America/New_York
BEGIN:STANDARD
TZNAME:EST
DTSTART:20161106T020000
TZOFFSETFROM:-0400
TZOFFSETTO:-0500
RDATE:20171105T020000
END:STANDARD
BEGIN:DAYLIGHT
TZNAME:EDT
DTSTART:20170312T020000
TZOFFSETFROM:-0500
TZOFFSETTO:-0400
RDATE:20180311T020000
END:DAYLIGHT
END:VTIMEZONE
BEGIN:VEVENT
UID:7d3c43ae-a84c-4984-a59f-d3aec13dfb63
DTSTAMP:20260423T165251Z
DESCRIPTION:
DTSTART;TZID=America/New_York:20170426T163000
DTEND;TZID=America/New_York:20170426T190000
LOCATION:Arc Attleboro
SUMMARY:Karate
END:VEVENT
END:VCALENDAR
