BEGIN:VCALENDAR
VERSION:2.0
PRODID:-//www.arcnbc.org//NONSGML kigkonsult.se iCalcreator 2.30.10//
CALSCALE:GREGORIAN
METHOD:PUBLISH
UID:fdd6ee57-4a76-40d5-b7c3-7767466fe4c2
X-WR-CALDESC:
X-WR-RELCALID:2272ef1af16f772ad7c922e6fdcd3919
X-WR-TIMEZONE:America/New_York
BEGIN:VTIMEZONE
TZID:America/New_York
BEGIN:STANDARD
TZNAME:EST
DTSTART:20161106T020000
TZOFFSETFROM:-0400
TZOFFSETTO:-0500
RDATE:20171105T020000
END:STANDARD
BEGIN:DAYLIGHT
TZNAME:EDT
DTSTART:20170312T020000
TZOFFSETFROM:-0500
TZOFFSETTO:-0400
RDATE:20180311T020000
END:DAYLIGHT
END:VTIMEZONE
BEGIN:VEVENT
UID:50553bf5-789a-407d-b88b-85ff1a3eff71
DTSTAMP:20260423T165628Z
DESCRIPTION:
DTSTART;TZID=America/New_York:20170427T190000
DTEND;TZID=America/New_York:20170427T210000
LOCATION:PACC- 175 School St. Taunton
SUMMARY:Fran's Dance
END:VEVENT
END:VCALENDAR
