BEGIN:VCALENDAR
VERSION:2.0
PRODID:-//www.arcnbc.org//NONSGML kigkonsult.se iCalcreator 2.30.10//
CALSCALE:GREGORIAN
METHOD:PUBLISH
UID:1bf49e9b-55be-4a16-8140-68d07c0a416c
X-WR-CALDESC:
X-WR-RELCALID:993f865fbe9c2637c1be0a2e3515aef7
X-WR-TIMEZONE:America/New_York
BEGIN:VTIMEZONE
TZID:America/New_York
BEGIN:STANDARD
TZNAME:EST
DTSTART:20161106T020000
TZOFFSETFROM:-0400
TZOFFSETTO:-0500
RDATE:20171105T020000
END:STANDARD
BEGIN:DAYLIGHT
TZNAME:EDT
DTSTART:20170312T020000
TZOFFSETFROM:-0500
TZOFFSETTO:-0400
RDATE:20180311T020000
END:DAYLIGHT
END:VTIMEZONE
BEGIN:VEVENT
UID:3e6d133c-e0c1-41a2-8949-ed82b9ff115c
DTSTAMP:20260423T165639Z
DESCRIPTION:
DTSTART;TZID=America/New_York:20170501T170000
DTEND;TZID=America/New_York:20170501T180000
LOCATION:Arc Attleboro
SUMMARY:Dance Class
END:VEVENT
END:VCALENDAR
