BEGIN:VCALENDAR
VERSION:2.0
PRODID:-//www.arcnbc.org//NONSGML kigkonsult.se iCalcreator 2.30.10//
CALSCALE:GREGORIAN
METHOD:PUBLISH
UID:30b48c42-4591-4802-8ba3-ce8ecd5bff02
X-WR-CALDESC:
X-WR-RELCALID:47d032d22910c9357b37ca95774ba892
X-WR-TIMEZONE:America/New_York
BEGIN:VTIMEZONE
TZID:America/New_York
BEGIN:STANDARD
TZNAME:EST
DTSTART:20161106T020000
TZOFFSETFROM:-0400
TZOFFSETTO:-0500
RDATE:20171105T020000
END:STANDARD
BEGIN:DAYLIGHT
TZNAME:EDT
DTSTART:20170312T020000
TZOFFSETFROM:-0500
TZOFFSETTO:-0400
RDATE:20180311T020000
END:DAYLIGHT
END:VTIMEZONE
BEGIN:VEVENT
UID:a1fb669d-6b3b-49a0-bf83-d5b490ee7a56
DTSTAMP:20260423T165521Z
DESCRIPTION:
DTSTART;TZID=America/New_York:20170502T173000
DTEND;TZID=America/New_York:20170502T183000
LOCATION:Arc Attleboro
SUMMARY:Dining with the Arc
END:VEVENT
END:VCALENDAR
