BEGIN:VCALENDAR
VERSION:2.0
PRODID:-//www.arcnbc.org//NONSGML kigkonsult.se iCalcreator 2.30.10//
CALSCALE:GREGORIAN
METHOD:PUBLISH
UID:f86a0e53-2c50-4550-b0c9-83e21e36826e
X-WR-CALDESC:
X-WR-RELCALID:938a8e2475681f58b1adb07cbc31c9ee
X-WR-TIMEZONE:America/New_York
BEGIN:VTIMEZONE
TZID:America/New_York
BEGIN:STANDARD
TZNAME:EST
DTSTART:20161106T020000
TZOFFSETFROM:-0400
TZOFFSETTO:-0500
RDATE:20171105T020000
END:STANDARD
BEGIN:DAYLIGHT
TZNAME:EDT
DTSTART:20170312T020000
TZOFFSETFROM:-0500
TZOFFSETTO:-0400
RDATE:20180311T020000
END:DAYLIGHT
END:VTIMEZONE
BEGIN:VEVENT
UID:45d4bcf9-9e19-40b0-bac5-9e659863225d
DTSTAMP:20260423T165243Z
DESCRIPTION:
DTSTART;TZID=America/New_York:20170503T150000
DTEND;TZID=America/New_York:20170503T170000
LOCATION:TARC
SUMMARY:Bingo
END:VEVENT
END:VCALENDAR
