BEGIN:VCALENDAR
VERSION:2.0
PRODID:-//www.arcnbc.org//NONSGML kigkonsult.se iCalcreator 2.30.10//
CALSCALE:GREGORIAN
METHOD:PUBLISH
UID:88163603-e572-4803-8e49-4ec383966a54
X-WR-CALDESC:
X-WR-RELCALID:75604b4af361fafbcec3e5da06cea823
X-WR-TIMEZONE:America/New_York
BEGIN:VTIMEZONE
TZID:America/New_York
BEGIN:STANDARD
TZNAME:EST
DTSTART:20161106T020000
TZOFFSETFROM:-0400
TZOFFSETTO:-0500
RDATE:20171105T020000
END:STANDARD
BEGIN:DAYLIGHT
TZNAME:EDT
DTSTART:20170312T020000
TZOFFSETFROM:-0500
TZOFFSETTO:-0400
RDATE:20180311T020000
END:DAYLIGHT
END:VTIMEZONE
BEGIN:VEVENT
UID:1637899f-f79b-4d85-bf40-88dc7c3a9424
DTSTAMP:20260423T165356Z
DESCRIPTION:
DTSTART;TZID=America/New_York:20170504T183000
DTEND;TZID=America/New_York:20170504T220000
LOCATION:Arc Attleboro
SUMMARY:Dance Show
END:VEVENT
END:VCALENDAR
