BEGIN:VCALENDAR
VERSION:2.0
PRODID:-//www.arcnbc.org//NONSGML kigkonsult.se iCalcreator 2.30.10//
CALSCALE:GREGORIAN
METHOD:PUBLISH
UID:1b284cae-fcec-4060-8dbb-3ba12bf41d99
X-WR-CALDESC:
X-WR-RELCALID:c9e02bfbeff44f1e199d2d4b573e461c
X-WR-TIMEZONE:America/New_York
BEGIN:VTIMEZONE
TZID:America/New_York
BEGIN:STANDARD
TZNAME:EST
DTSTART:20161106T020000
TZOFFSETFROM:-0400
TZOFFSETTO:-0500
RDATE:20171105T020000
RDATE:20181104T020000
END:STANDARD
BEGIN:DAYLIGHT
TZNAME:EDT
DTSTART:20170312T020000
TZOFFSETFROM:-0500
TZOFFSETTO:-0400
RDATE:20180311T020000
END:DAYLIGHT
END:VTIMEZONE
BEGIN:VEVENT
UID:b198af54-f093-41bc-90d5-93abaf408cee
DTSTAMP:20260423T165553Z
DESCRIPTION:
DTSTART;TZID=America/New_York:20170508T170000
DTEND;TZID=America/New_York:20170508T180000
LOCATION:Arc Attleboro
SUMMARY:Dance Class
END:VEVENT
END:VCALENDAR
