BEGIN:VCALENDAR
VERSION:2.0
PRODID:-//www.arcnbc.org//NONSGML kigkonsult.se iCalcreator 2.30.10//
CALSCALE:GREGORIAN
METHOD:PUBLISH
UID:c3ab0ab7-7784-4137-8148-2920cd897a4a
X-WR-CALDESC:
X-WR-RELCALID:4ec7ff11ac3d4157fc477f71e9658ac3
X-WR-TIMEZONE:America/New_York
BEGIN:VTIMEZONE
TZID:America/New_York
BEGIN:STANDARD
TZNAME:EST
DTSTART:20161106T020000
TZOFFSETFROM:-0400
TZOFFSETTO:-0500
RDATE:20171105T020000
RDATE:20181104T020000
END:STANDARD
BEGIN:DAYLIGHT
TZNAME:EDT
DTSTART:20170312T020000
TZOFFSETFROM:-0500
TZOFFSETTO:-0400
RDATE:20180311T020000
END:DAYLIGHT
END:VTIMEZONE
BEGIN:VEVENT
UID:4d84358e-fe0f-48fc-86c2-fbb590457fce
DTSTAMP:20260423T165746Z
DESCRIPTION:
DTSTART;TZID=America/New_York:20170508T170000
DTEND;TZID=America/New_York:20170508T190000
LOCATION:proAbility office\, 25 Thurber Blvd. Smithfield\, RI
SUMMARY:proAbility staff First Aid/CPR Refresher
END:VEVENT
END:VCALENDAR
