BEGIN:VCALENDAR
VERSION:2.0
PRODID:-//www.arcnbc.org//NONSGML kigkonsult.se iCalcreator 2.30.10//
CALSCALE:GREGORIAN
METHOD:PUBLISH
UID:215e63f4-8a27-4377-9d10-78b7ecb6b27c
X-WR-CALDESC:
X-WR-RELCALID:5379022a879cd24bee6672aeb321273f
X-WR-TIMEZONE:America/New_York
BEGIN:VTIMEZONE
TZID:America/New_York
BEGIN:STANDARD
TZNAME:EST
DTSTART:20161106T020000
TZOFFSETFROM:-0400
TZOFFSETTO:-0500
RDATE:20171105T020000
RDATE:20181104T020000
END:STANDARD
BEGIN:DAYLIGHT
TZNAME:EDT
DTSTART:20170312T020000
TZOFFSETFROM:-0500
TZOFFSETTO:-0400
RDATE:20180311T020000
END:DAYLIGHT
END:VTIMEZONE
BEGIN:VEVENT
UID:08567dd2-45c1-4d3b-9195-a9317e4b460b
DTSTAMP:20260423T165244Z
DESCRIPTION:
DTSTART;TZID=America/New_York:20170509T170000
DTEND;TZID=America/New_York:20170509T220000
LOCATION:Arc Attleboro
SUMMARY:PawSox
END:VEVENT
END:VCALENDAR
