BEGIN:VCALENDAR
VERSION:2.0
PRODID:-//www.arcnbc.org//NONSGML kigkonsult.se iCalcreator 2.30.10//
CALSCALE:GREGORIAN
METHOD:PUBLISH
UID:cbd583ff-5cca-406f-a7f7-59e45fc159b8
X-WR-CALDESC:New Employee Orientation
X-WR-RELCALID:01c4e7298d029e7cfaa0e598d28cd41b
X-WR-TIMEZONE:America/New_York
BEGIN:VTIMEZONE
TZID:America/New_York
BEGIN:STANDARD
TZNAME:EST
DTSTART:20161106T020000
TZOFFSETFROM:-0400
TZOFFSETTO:-0500
RDATE:20171105T020000
RDATE:20181104T020000
END:STANDARD
BEGIN:DAYLIGHT
TZNAME:EDT
DTSTART:20170312T020000
TZOFFSETFROM:-0500
TZOFFSETTO:-0400
RDATE:20180311T020000
END:DAYLIGHT
END:VTIMEZONE
BEGIN:VEVENT
UID:ff878e80-8f98-4c2c-bf95-770ccf318ea7
DTSTAMP:20260423T165238Z
DESCRIPTION:New Employee Orientation
DTSTART;TZID=America/New_York:20170510T100000
DTEND;TZID=America/New_York:20170510T160000
LOCATION:141 Park Street
SUMMARY:Orientation
END:VEVENT
END:VCALENDAR
