BEGIN:VCALENDAR
VERSION:2.0
PRODID:-//www.arcnbc.org//NONSGML kigkonsult.se iCalcreator 2.30.10//
CALSCALE:GREGORIAN
METHOD:PUBLISH
UID:86408a54-0a16-40ce-8053-0c189bb5d1cb
X-WR-CALDESC:
X-WR-RELCALID:e3f4a1232070f4dad0d0eda4476f56ff
X-WR-TIMEZONE:America/New_York
BEGIN:VTIMEZONE
TZID:America/New_York
BEGIN:STANDARD
TZNAME:EST
DTSTART:20161106T020000
TZOFFSETFROM:-0400
TZOFFSETTO:-0500
RDATE:20171105T020000
RDATE:20181104T020000
END:STANDARD
BEGIN:DAYLIGHT
TZNAME:EDT
DTSTART:20170312T020000
TZOFFSETFROM:-0500
TZOFFSETTO:-0400
RDATE:20180311T020000
END:DAYLIGHT
END:VTIMEZONE
BEGIN:VEVENT
UID:79abb305-71af-401c-b479-0fb3bd88eaf9
DTSTAMP:20260423T165509Z
DESCRIPTION:
DTSTART;TZID=America/New_York:20170511T160000
DTEND;TZID=America/New_York:20170511T173000
LOCATION:Oak Knoll Wildlife Sactuary
SUMMARY:Nature walk
END:VEVENT
END:VCALENDAR
