BEGIN:VCALENDAR
VERSION:2.0
PRODID:-//www.arcnbc.org//NONSGML kigkonsult.se iCalcreator 2.30.10//
CALSCALE:GREGORIAN
METHOD:PUBLISH
UID:dbff3223-0954-42d0-beab-e15720b62f62
X-WR-CALDESC:
X-WR-RELCALID:7a3eda5a11a5045d6eec345aeec3d1c2
X-WR-TIMEZONE:America/New_York
BEGIN:VTIMEZONE
TZID:America/New_York
BEGIN:STANDARD
TZNAME:EST
DTSTART:20161106T020000
TZOFFSETFROM:-0400
TZOFFSETTO:-0500
RDATE:20171105T020000
RDATE:20181104T020000
END:STANDARD
BEGIN:DAYLIGHT
TZNAME:EDT
DTSTART:20170312T020000
TZOFFSETFROM:-0500
TZOFFSETTO:-0400
RDATE:20180311T020000
END:DAYLIGHT
END:VTIMEZONE
BEGIN:VEVENT
UID:5993f1a4-15b2-434b-9438-3f6771958b4f
DTSTAMP:20260423T165456Z
DESCRIPTION:
DTSTART;TZID=America/New_York:20170512T090000
DTEND;TZID=America/New_York:20170512T150000
LOCATION:141 Park Street
SUMMARY:First Aid/CPR
END:VEVENT
END:VCALENDAR
