BEGIN:VCALENDAR
VERSION:2.0
PRODID:-//www.arcnbc.org//NONSGML kigkonsult.se iCalcreator 2.30.10//
CALSCALE:GREGORIAN
METHOD:PUBLISH
UID:b3f731a7-df83-4b78-8bb1-b5a4d689bd5b
X-WR-CALDESC:
X-WR-RELCALID:f6733f4e182395a98ae30c6375feca76
X-WR-TIMEZONE:America/New_York
BEGIN:VTIMEZONE
TZID:America/New_York
BEGIN:STANDARD
TZNAME:EST
DTSTART:20161106T020000
TZOFFSETFROM:-0400
TZOFFSETTO:-0500
RDATE:20171105T020000
RDATE:20181104T020000
END:STANDARD
BEGIN:DAYLIGHT
TZNAME:EDT
DTSTART:20170312T020000
TZOFFSETFROM:-0500
TZOFFSETTO:-0400
RDATE:20180311T020000
END:DAYLIGHT
END:VTIMEZONE
BEGIN:VEVENT
UID:bc6a8d79-5f96-442d-90e8-d987351f2976
DTSTAMP:20260423T165637Z
DESCRIPTION:
DTSTART;TZID=America/New_York:20170515T170000
DTEND;TZID=America/New_York:20170515T180000
LOCATION:Arc Attleboro
SUMMARY:Dance Class
END:VEVENT
END:VCALENDAR
