BEGIN:VCALENDAR
VERSION:2.0
PRODID:-//www.arcnbc.org//NONSGML kigkonsult.se iCalcreator 2.30.10//
CALSCALE:GREGORIAN
METHOD:PUBLISH
UID:bfa8f702-876a-4412-a6c6-c023116a9488
X-WR-CALDESC:
X-WR-RELCALID:cf79627c36aa14d232a3bd05a6705309
X-WR-TIMEZONE:America/New_York
BEGIN:VTIMEZONE
TZID:America/New_York
BEGIN:STANDARD
TZNAME:EST
DTSTART:20161106T020000
TZOFFSETFROM:-0400
TZOFFSETTO:-0500
RDATE:20171105T020000
RDATE:20181104T020000
END:STANDARD
BEGIN:DAYLIGHT
TZNAME:EDT
DTSTART:20170312T020000
TZOFFSETFROM:-0500
TZOFFSETTO:-0400
RDATE:20180311T020000
END:DAYLIGHT
END:VTIMEZONE
BEGIN:VEVENT
UID:4effa5df-c610-4782-b9b3-3374590720c2
DTSTAMP:20260423T165637Z
DESCRIPTION:
DTSTART;TZID=America/New_York:20170517T163000
DTEND;TZID=America/New_York:20170517T190000
LOCATION:Arc Attleboro
SUMMARY:Karate
END:VEVENT
END:VCALENDAR
