BEGIN:VCALENDAR
VERSION:2.0
PRODID:-//www.arcnbc.org//NONSGML kigkonsult.se iCalcreator 2.30.10//
CALSCALE:GREGORIAN
METHOD:PUBLISH
UID:26169d89-45ab-4655-a41a-f4d1990d63e7
X-WR-CALDESC:
X-WR-RELCALID:058769c78d4553521612e91f3f5dfa3f
X-WR-TIMEZONE:America/New_York
BEGIN:VTIMEZONE
TZID:America/New_York
BEGIN:STANDARD
TZNAME:EST
DTSTART:20161106T020000
TZOFFSETFROM:-0400
TZOFFSETTO:-0500
RDATE:20171105T020000
RDATE:20181104T020000
END:STANDARD
BEGIN:DAYLIGHT
TZNAME:EDT
DTSTART:20170312T020000
TZOFFSETFROM:-0500
TZOFFSETTO:-0400
RDATE:20180311T020000
END:DAYLIGHT
END:VTIMEZONE
BEGIN:VEVENT
UID:7862fbb5-1210-4e1f-a404-030d5af48739
DTSTAMP:20260423T170041Z
DESCRIPTION:
DTSTART;TZID=America/New_York:20170518T163000
DTEND;TZID=America/New_York:20170518T190000
LOCATION:TARC
SUMMARY:Movie Night
END:VEVENT
END:VCALENDAR
