BEGIN:VCALENDAR
VERSION:2.0
PRODID:-//www.arcnbc.org//NONSGML kigkonsult.se iCalcreator 2.30.10//
CALSCALE:GREGORIAN
METHOD:PUBLISH
UID:a635a619-f28f-4244-b794-7c0e14a9247d
X-WR-CALDESC:
X-WR-RELCALID:9336b445f674c9dda11f0bbb84f8e993
X-WR-TIMEZONE:America/New_York
BEGIN:VTIMEZONE
TZID:America/New_York
BEGIN:STANDARD
TZNAME:EST
DTSTART:20161106T020000
TZOFFSETFROM:-0400
TZOFFSETTO:-0500
RDATE:20171105T020000
RDATE:20181104T020000
END:STANDARD
BEGIN:DAYLIGHT
TZNAME:EDT
DTSTART:20170312T020000
TZOFFSETFROM:-0500
TZOFFSETTO:-0400
RDATE:20180311T020000
END:DAYLIGHT
END:VTIMEZONE
BEGIN:VEVENT
UID:8245db77-e043-412f-8dda-12d6e8a8c0e3
DTSTAMP:20260423T165512Z
DESCRIPTION:
DTSTART;TZID=America/New_York:20170518T093000
DTEND;TZID=America/New_York:20170518T190000
LOCATION:Arc Attleboro
SUMMARY:Lake Compounce
END:VEVENT
END:VCALENDAR
