BEGIN:VCALENDAR
VERSION:2.0
PRODID:-//www.arcnbc.org//NONSGML kigkonsult.se iCalcreator 2.30.10//
CALSCALE:GREGORIAN
METHOD:PUBLISH
UID:cdc696fb-ba70-4466-a432-569674902c1e
X-WR-CALDESC:
X-WR-RELCALID:846303ba45fc8676b3847f28057c9111
X-WR-TIMEZONE:America/New_York
BEGIN:VTIMEZONE
TZID:America/New_York
BEGIN:STANDARD
TZNAME:EST
DTSTART:20161106T020000
TZOFFSETFROM:-0400
TZOFFSETTO:-0500
RDATE:20171105T020000
RDATE:20181104T020000
END:STANDARD
BEGIN:DAYLIGHT
TZNAME:EDT
DTSTART:20170312T020000
TZOFFSETFROM:-0500
TZOFFSETTO:-0400
RDATE:20180311T020000
END:DAYLIGHT
END:VTIMEZONE
BEGIN:VEVENT
UID:c4686918-30fc-410f-9ffe-605963bb7ecc
DTSTAMP:20260423T165349Z
DESCRIPTION:
DTSTART;TZID=America/New_York:20170519T190000
DTEND;TZID=America/New_York:20170519T210000
LOCATION:Attleboro YMCA  Pleasant St. Branch
SUMMARY:GO Night
END:VEVENT
END:VCALENDAR
