BEGIN:VCALENDAR
VERSION:2.0
PRODID:-//www.arcnbc.org//NONSGML kigkonsult.se iCalcreator 2.30.10//
CALSCALE:GREGORIAN
METHOD:PUBLISH
UID:09d12067-08d5-4dc7-ba4b-b1ab48df8e59
X-WR-CALDESC:
X-WR-RELCALID:43d886e15d2b908cfd3c09dc94fb81f2
X-WR-TIMEZONE:America/New_York
BEGIN:VTIMEZONE
TZID:America/New_York
BEGIN:STANDARD
TZNAME:EST
DTSTART:20161106T020000
TZOFFSETFROM:-0400
TZOFFSETTO:-0500
RDATE:20171105T020000
RDATE:20181104T020000
END:STANDARD
BEGIN:DAYLIGHT
TZNAME:EDT
DTSTART:20170312T020000
TZOFFSETFROM:-0500
TZOFFSETTO:-0400
RDATE:20180311T020000
END:DAYLIGHT
END:VTIMEZONE
BEGIN:VEVENT
UID:5af70543-2c4d-4fc3-a92e-7a5162514dbf
DTSTAMP:20260423T165922Z
DESCRIPTION:
DTSTART;TZID=America/New_York:20170525T190000
DTEND;TZID=America/New_York:20170525T210000
LOCATION:PACC 175 School St. Taunton
SUMMARY:Fran's Dance
END:VEVENT
END:VCALENDAR
