BEGIN:VCALENDAR
VERSION:2.0
PRODID:-//www.arcnbc.org//NONSGML kigkonsult.se iCalcreator 2.30.10//
CALSCALE:GREGORIAN
METHOD:PUBLISH
UID:3a7dd2ed-8c7d-4c3d-bdab-015c3678c050
X-WR-CALDESC:
X-WR-RELCALID:2104a91c779fe75cc91824bb897ce6cc
X-WR-TIMEZONE:America/New_York
BEGIN:VTIMEZONE
TZID:America/New_York
BEGIN:STANDARD
TZNAME:EST
DTSTART:20161106T020000
TZOFFSETFROM:-0400
TZOFFSETTO:-0500
RDATE:20171105T020000
RDATE:20181104T020000
END:STANDARD
BEGIN:DAYLIGHT
TZNAME:EDT
DTSTART:20170312T020000
TZOFFSETFROM:-0500
TZOFFSETTO:-0400
RDATE:20180311T020000
END:DAYLIGHT
END:VTIMEZONE
BEGIN:VEVENT
UID:44314336-48dc-4645-8042-5087bbc70398
DTSTAMP:20260423T165511Z
DESCRIPTION:
DTSTART;TZID=America/New_York:20170525T190000
DTEND;TZID=America/New_York:20170525T210000
LOCATION:PACC- 175 School St. Taunton
SUMMARY:Fran\;s Dance
END:VEVENT
END:VCALENDAR
