BEGIN:VCALENDAR
VERSION:2.0
PRODID:-//www.arcnbc.org//NONSGML kigkonsult.se iCalcreator 2.30.10//
CALSCALE:GREGORIAN
METHOD:PUBLISH
UID:897a8271-33f6-42bf-8ba4-ee981b7b3459
X-WR-CALDESC:
X-WR-RELCALID:d1629f51430ea01e7b56d7b68d3588a1
X-WR-TIMEZONE:America/New_York
BEGIN:VTIMEZONE
TZID:America/New_York
BEGIN:STANDARD
TZNAME:EST
DTSTART:20161106T020000
TZOFFSETFROM:-0400
TZOFFSETTO:-0500
RDATE:20171105T020000
RDATE:20181104T020000
END:STANDARD
BEGIN:DAYLIGHT
TZNAME:EDT
DTSTART:20170312T020000
TZOFFSETFROM:-0500
TZOFFSETTO:-0400
RDATE:20180311T020000
END:DAYLIGHT
END:VTIMEZONE
BEGIN:VEVENT
UID:86cad162-4783-4b5f-bcf1-9cd5862fe896
DTSTAMP:20260423T165627Z
DESCRIPTION:
DTSTART;TZID=America/New_York:20170530T170000
DTEND;TZID=America/New_York:20170530T180000
LOCATION:Arc Attleboro
SUMMARY:Self Advocate Group
END:VEVENT
END:VCALENDAR
