BEGIN:VCALENDAR
VERSION:2.0
PRODID:-//www.arcnbc.org//NONSGML kigkonsult.se iCalcreator 2.30.10//
CALSCALE:GREGORIAN
METHOD:PUBLISH
UID:de548f8c-39ae-4ebc-a4d0-dbf09906506e
X-WR-CALDESC:
X-WR-RELCALID:8f6ef36e11840938ef8c3a668280cc84
X-WR-TIMEZONE:America/New_York
BEGIN:VTIMEZONE
TZID:America/New_York
BEGIN:STANDARD
TZNAME:EST
DTSTART:20161106T020000
TZOFFSETFROM:-0400
TZOFFSETTO:-0500
RDATE:20171105T020000
RDATE:20181104T020000
END:STANDARD
BEGIN:DAYLIGHT
TZNAME:EDT
DTSTART:20170312T020000
TZOFFSETFROM:-0500
TZOFFSETTO:-0400
RDATE:20180311T020000
END:DAYLIGHT
END:VTIMEZONE
BEGIN:VEVENT
UID:f50dbc75-b46b-4ced-a69a-1b3c3536520d
DTSTAMP:20260423T165356Z
DESCRIPTION:
DTSTART;TZID=America/New_York:20170531T150000
DTEND;TZID=America/New_York:20170531T170000
LOCATION:TARC
SUMMARY:Bingo
END:VEVENT
END:VCALENDAR
