BEGIN:VCALENDAR
VERSION:2.0
PRODID:-//www.arcnbc.org//NONSGML kigkonsult.se iCalcreator 2.30.10//
CALSCALE:GREGORIAN
METHOD:PUBLISH
UID:a057e323-396c-406f-9b2b-67cd78bbea24
X-WR-CALDESC:
X-WR-RELCALID:7b957b34d786fa8cf66d9678a171c51c
X-WR-TIMEZONE:America/New_York
BEGIN:VTIMEZONE
TZID:America/New_York
BEGIN:STANDARD
TZNAME:EST
DTSTART:20161106T020000
TZOFFSETFROM:-0400
TZOFFSETTO:-0500
RDATE:20171105T020000
RDATE:20181104T020000
END:STANDARD
BEGIN:DAYLIGHT
TZNAME:EDT
DTSTART:20170312T020000
TZOFFSETFROM:-0500
TZOFFSETTO:-0400
RDATE:20180311T020000
END:DAYLIGHT
END:VTIMEZONE
BEGIN:VEVENT
UID:510233a0-c71c-46d8-bd4e-e06ac5d216b2
DTSTAMP:20260423T165639Z
DESCRIPTION:
DTSTART;TZID=America/New_York:20170603T173000
DTEND;TZID=America/New_York:20170603T230000
LOCATION:Arc Attleboro
SUMMARY:B-52's Concert
END:VEVENT
END:VCALENDAR
