BEGIN:VCALENDAR
VERSION:2.0
PRODID:-//www.arcnbc.org//NONSGML kigkonsult.se iCalcreator 2.30.10//
CALSCALE:GREGORIAN
METHOD:PUBLISH
UID:7485d7d1-7b5e-4da9-af32-15a9394bf9d8
X-WR-CALDESC:New Employee Orientation
X-WR-RELCALID:96eab17ab910254e019a826dbd0b6994
X-WR-TIMEZONE:America/New_York
BEGIN:VTIMEZONE
TZID:America/New_York
BEGIN:STANDARD
TZNAME:EST
DTSTART:20161106T020000
TZOFFSETFROM:-0400
TZOFFSETTO:-0500
RDATE:20171105T020000
RDATE:20181104T020000
END:STANDARD
BEGIN:DAYLIGHT
TZNAME:EDT
DTSTART:20170312T020000
TZOFFSETFROM:-0500
TZOFFSETTO:-0400
RDATE:20180311T020000
END:DAYLIGHT
END:VTIMEZONE
BEGIN:VEVENT
UID:a1454560-997e-45c0-b418-0e22ec745608
DTSTAMP:20260423T165247Z
DESCRIPTION:New Employee Orientation
DTSTART;TZID=America/New_York:20170605T100000
DTEND;TZID=America/New_York:20170605T160000
LOCATION:141 Park Street
SUMMARY:Orientation
END:VEVENT
END:VCALENDAR
