BEGIN:VCALENDAR
VERSION:2.0
PRODID:-//www.arcnbc.org//NONSGML kigkonsult.se iCalcreator 2.30.10//
CALSCALE:GREGORIAN
METHOD:PUBLISH
UID:f0970e77-361a-472e-ba32-c3e37c7d38bc
X-WR-CALDESC:
X-WR-RELCALID:c5e65b43db918780a4e7f4b1be5fd070
X-WR-TIMEZONE:America/New_York
BEGIN:VTIMEZONE
TZID:America/New_York
BEGIN:STANDARD
TZNAME:EST
DTSTART:20161106T020000
TZOFFSETFROM:-0400
TZOFFSETTO:-0500
RDATE:20171105T020000
RDATE:20181104T020000
END:STANDARD
BEGIN:DAYLIGHT
TZNAME:EDT
DTSTART:20170312T020000
TZOFFSETFROM:-0500
TZOFFSETTO:-0400
RDATE:20180311T020000
END:DAYLIGHT
END:VTIMEZONE
BEGIN:VEVENT
UID:7b7d77db-36c6-4d43-8801-8fcb87c1cb0b
DTSTAMP:20260423T185525Z
DESCRIPTION:
DTSTART;TZID=America/New_York:20170609T190000
DTEND;TZID=America/New_York:20170609T230000
LOCATION:Arc Attleboro
SUMMARY:'Barefoot in the Park' Show
END:VEVENT
END:VCALENDAR
