BEGIN:VCALENDAR
VERSION:2.0
PRODID:-//www.arcnbc.org//NONSGML kigkonsult.se iCalcreator 2.30.10//
CALSCALE:GREGORIAN
METHOD:PUBLISH
UID:ee20f224-10f8-4794-9ad3-9ebf44b0495b
X-WR-CALDESC:
X-WR-RELCALID:957520c6b8df3ca1d18fd415893fceda
X-WR-TIMEZONE:America/New_York
BEGIN:VTIMEZONE
TZID:America/New_York
BEGIN:STANDARD
TZNAME:EST
DTSTART:20161106T020000
TZOFFSETFROM:-0400
TZOFFSETTO:-0500
RDATE:20171105T020000
RDATE:20181104T020000
END:STANDARD
BEGIN:DAYLIGHT
TZNAME:EDT
DTSTART:20170312T020000
TZOFFSETFROM:-0500
TZOFFSETTO:-0400
RDATE:20180311T020000
END:DAYLIGHT
END:VTIMEZONE
BEGIN:VEVENT
UID:361a9a6e-f83c-4cb0-9e4e-eb923856cfaf
DTSTAMP:20260423T165815Z
DESCRIPTION:
DTSTART;TZID=America/New_York:20170613T180000
DTEND;TZID=America/New_York:20170613T200000
LOCATION:Finberg Field Attleboro
SUMMARY:Arc Softball
END:VEVENT
END:VCALENDAR
